BEGIN:VCALENDAR
VERSION:2.0
PRODID:-//Christ Dunamis Ministries Int. - ECPv6.15.20//NONSGML v1.0//EN
CALSCALE:GREGORIAN
METHOD:PUBLISH
X-ORIGINAL-URL:https://christdunamisministries.org
X-WR-CALDESC:Events for Christ Dunamis Ministries Int.
REFRESH-INTERVAL;VALUE=DURATION:PT1H
X-Robots-Tag:noindex
X-PUBLISHED-TTL:PT1H
BEGIN:VTIMEZONE
TZID:UTC
BEGIN:STANDARD
TZOFFSETFROM:+0000
TZOFFSETTO:+0000
TZNAME:UTC
DTSTART:20190101T000000
END:STANDARD
END:VTIMEZONE
BEGIN:VEVENT
DTSTART;TZID=UTC:20200625T213000
DTEND;TZID=UTC:20200625T213000
DTSTAMP:20260421T132240
CREATED:20200611T075022Z
LAST-MODIFIED:20200619T105105Z
UID:9501-1593120600-1593120600@christdunamisministries.org
SUMMARY:LET’S PRAY FOR THE PEACE OF THE WORLD
DESCRIPTION:It is expedient to join hands in Prayers\, in the mist of FEAR\, Chaos\, Rising Deaths\, the ECONOMIC Uncertainty ravaging the World caused by COVID-19 Pandemic and the evil of today.\nChrist Dunamis Ministry International (CDMI) UK is a new Christian Community. Our VISION is committed to Transforming lives/ Raising disciples and Affluent.\nOne of our missions is to invite others with willing hearts to render together thanksgiving to God\, supplications\, prayers\, intercessions for all\,\nfor KINGS and ALL who are in AUTHORITY\, that we may lead a quiet and peaceable life in all godliness and reverence (1 Timothy 2:1-2).\nBy Faith\, we can get our PEACE\, HEALTH\, ECONOMY and FREEDOM back.\nJOIN US: Every Thursday @21:30 to 22:30 STARTING 4th June 2020 on Facebook\nhttp://www.christdunamisministries.org \nJOINING INSTRUCTION:\nDial-in number (GB): 0330 606 0403\nAccess code: 4579699#\nInternational dial-in numbers: https://fccdl.in/i/cdmint20\nOnline meeting ID: cdmint20\nJoin the online meeting: https://join.freeconferencecall.com/cdmint20
URL:https://christdunamisministries.org/event/lets-pray-for-the-peace-of-the-world/
ATTACH;FMTTYPE=image/jpeg:https://christdunamisministries.org/wp-content/uploads/2020/06/DUNAMIS_UK_PRAYER_JPEG_1mb.jpg
END:VEVENT
END:VCALENDAR